BEGIN:VCALENDAR
VERSION:2.0
PRODID:-//jEvents 2.0 for Joomla//EN
CALSCALE:GREGORIAN
METHOD:PUBLISH
BEGIN:VEVENT
UID:d4b4140686f780eaa844939b6ae8c02c
CATEGORIES:Übungen
CREATED:20200103T100101
SUMMARY:ÖFAST
DESCRIPTION;ENCODING=QUOTED-PRINTABLE:
DTSTAMP:20260425T020055Z
DTSTART:20200104T123000Z
SEQUENCE:0
TRANSP:OPAQUE
END:VEVENT
END:VCALENDAR